BEGIN:VCALENDAR
VERSION:2.0
PRODID:-//My Epilepsy Story | Epilepsy Support - ECPv6.15.20//NONSGML v1.0//EN
CALSCALE:GREGORIAN
METHOD:PUBLISH
X-WR-CALNAME:My Epilepsy Story | Epilepsy Support
X-ORIGINAL-URL:https://myepilepsystory.org
X-WR-CALDESC:Events for My Epilepsy Story | Epilepsy Support
REFRESH-INTERVAL;VALUE=DURATION:PT1H
X-Robots-Tag:noindex
X-PUBLISHED-TTL:PT1H
BEGIN:VTIMEZONE
TZID:America/Chicago
BEGIN:DAYLIGHT
TZOFFSETFROM:-0600
TZOFFSETTO:-0500
TZNAME:CDT
DTSTART:20230312T080000
END:DAYLIGHT
BEGIN:STANDARD
TZOFFSETFROM:-0500
TZOFFSETTO:-0600
TZNAME:CST
DTSTART:20231105T070000
END:STANDARD
BEGIN:DAYLIGHT
TZOFFSETFROM:-0600
TZOFFSETTO:-0500
TZNAME:CDT
DTSTART:20240310T080000
END:DAYLIGHT
BEGIN:STANDARD
TZOFFSETFROM:-0500
TZOFFSETTO:-0600
TZNAME:CST
DTSTART:20241103T070000
END:STANDARD
BEGIN:DAYLIGHT
TZOFFSETFROM:-0600
TZOFFSETTO:-0500
TZNAME:CDT
DTSTART:20250309T080000
END:DAYLIGHT
BEGIN:STANDARD
TZOFFSETFROM:-0500
TZOFFSETTO:-0600
TZNAME:CST
DTSTART:20251102T070000
END:STANDARD
END:VTIMEZONE
BEGIN:VEVENT
DTSTART;TZID=America/Chicago:20240401T000000
DTEND;TZID=America/Chicago:20240430T000000
DTSTAMP:20260423T013130
CREATED:20240301T184530Z
LAST-MODIFIED:20240301T193451Z
UID:8254-1711929600-1714435200@myepilepsystory.org
SUMMARY:Plaid Rabbit Fundraiser
DESCRIPTION:Plaid Rabbit Fundraiser – Nashville \n \n 
URL:https://myepilepsystory.org/event/plaid-rabbit-fundraiser/
LOCATION:Plaid Rabbit\, 2164 Bandywood Dr\,\, Nashville\,\, TN\, 37215\, United States
CATEGORIES:Upcoming Event
END:VEVENT
BEGIN:VEVENT
DTSTART;TZID=America/Chicago:20240306T120000
DTEND;TZID=America/Chicago:20240306T130000
DTSTAMP:20260423T013130
CREATED:20240301T200338Z
LAST-MODIFIED:20240301T211129Z
UID:8319-1709726400-1709730000@myepilepsystory.org
SUMMARY:Medical Grand Rounds: Women’s Neurology – Lessons from the Field
DESCRIPTION:Medical Grand Rounds: Women’s Neurology – Lessons from the Field\nSpeakers:  \n\n\n\nEsther Bui\, MD\, FRCPC Division of Neurology\, University Health Network Assistant Professor\, University of Toronto\n\n\n\n\n\n\nBrandy McFadden Executive Director/Founder\, My Epilepsy Story\n\n\n\nLearning Objectives: \n\n\n\nDescribe the history of Women’s Neurology and why the development of a subspecialty is needed.\n\n\n\n\n\n\nReview educational gaps and share how an American Academy of Neurology curriculum was developed.\n\n\n\n\n\n\nDiscuss the future of Women’s Neurology – how far we have come/how much further we need to go\n\n\n\n  \nWhen: Wednesday\, March 6\, 2024\, 12:00 – 1:00 p.m.\nHow: Join Zoom Meeting: https://uhn-etms.zoom.us/j/91658213585?pwd=MUFMK0hQR3p3T0RjYTcza2UwTGxtdz09 \nMeeting ID: 916 5821 3585\nPasscode: 114523 \nUHNSH FLYER Mar 6 2024 Virtual – E. Bui
URL:https://myepilepsystory.org/event/medical-grand-rounds-womens-neurology-lessons-from-the-field/
END:VEVENT
BEGIN:VEVENT
DTSTART;TZID=America/Chicago:20240301T000000
DTEND;TZID=America/Chicago:20240331T000000
DTSTAMP:20260423T013130
CREATED:20240301T184347Z
LAST-MODIFIED:20240301T195117Z
UID:8262-1709251200-1711843200@myepilepsystory.org
SUMMARY:Petite Plume Fundraiser - All March!
DESCRIPTION:Petite Plume Fundraiser \nPetite Plume is offering a 20% off code and donating 20% back to My Epilepsy Story for the ENTIRE month of March!\nUse code: EPILEPSY20
URL:https://myepilepsystory.org/event/petite-plume-fundraiser/
CATEGORIES:Upcoming Event
ATTACH;FMTTYPE=image/png:https://myepilepsystory.org/wp-content/uploads/2024/03/IWWED-w_PP.png
END:VEVENT
BEGIN:VEVENT
DTSTART;VALUE=DATE:20240301
DTEND;VALUE=DATE:20240302
DTSTAMP:20260423T013130
CREATED:20240301T185032Z
LAST-MODIFIED:20240301T185806Z
UID:8267-1709251200-1709337599@myepilepsystory.org
SUMMARY:International Women with Epilepsy Day
DESCRIPTION:Dr Voinescu Talk: Personalized Treatment Approach for Patients with Epilepsy of Gestational Potential \nAt: Grand Rounds for University of Chicago Department of Neurology
URL:https://myepilepsystory.org/event/international-women-with-epilepsy-day/
ATTACH;FMTTYPE=image/png:https://myepilepsystory.org/wp-content/uploads/2024/03/IWWED.png
END:VEVENT
BEGIN:VEVENT
DTSTART;VALUE=DATE:20240301
DTEND;VALUE=DATE:20240302
DTSTAMP:20260423T013130
CREATED:20240301T184005Z
LAST-MODIFIED:20240301T184628Z
UID:8260-1709251200-1709337599@myepilepsystory.org
SUMMARY:British International School of Boston Fundraiser
DESCRIPTION:British International School of Boston – Boston\, MA Fundraiser
URL:https://myepilepsystory.org/event/british-international-school-of-boston-fundraiser/
CATEGORIES:Upcoming Event
END:VEVENT
BEGIN:VEVENT
DTSTART;VALUE=DATE:20240301
DTEND;VALUE=DATE:20240302
DTSTAMP:20260423T013130
CREATED:20240301T183814Z
LAST-MODIFIED:20240301T184713Z
UID:8256-1709251200-1709337599@myepilepsystory.org
SUMMARY:Holy Cross High School Dress Down Fundraiser
DESCRIPTION:Holy Cross High School – Scranton\, PA \nDress Down Fundraiser
URL:https://myepilepsystory.org/event/holy-cross-high-school-dress-down-fundraiser/
CATEGORIES:Upcoming Event
END:VEVENT
END:VCALENDAR