BEGIN:VCALENDAR
VERSION:2.0
PRODID:-//My Epilepsy Story | Epilepsy Support - ECPv6.15.20//NONSGML v1.0//EN
CALSCALE:GREGORIAN
METHOD:PUBLISH
X-ORIGINAL-URL:https://myepilepsystory.org
X-WR-CALDESC:Events for My Epilepsy Story | Epilepsy Support
REFRESH-INTERVAL;VALUE=DURATION:PT1H
X-Robots-Tag:noindex
X-PUBLISHED-TTL:PT1H
BEGIN:VTIMEZONE
TZID:America/Chicago
BEGIN:DAYLIGHT
TZOFFSETFROM:-0600
TZOFFSETTO:-0500
TZNAME:CDT
DTSTART:20250309T080000
END:DAYLIGHT
BEGIN:STANDARD
TZOFFSETFROM:-0500
TZOFFSETTO:-0600
TZNAME:CST
DTSTART:20251102T070000
END:STANDARD
BEGIN:DAYLIGHT
TZOFFSETFROM:-0600
TZOFFSETTO:-0500
TZNAME:CDT
DTSTART:20260308T080000
END:DAYLIGHT
BEGIN:STANDARD
TZOFFSETFROM:-0500
TZOFFSETTO:-0600
TZNAME:CST
DTSTART:20261101T070000
END:STANDARD
BEGIN:DAYLIGHT
TZOFFSETFROM:-0600
TZOFFSETTO:-0500
TZNAME:CDT
DTSTART:20270314T080000
END:DAYLIGHT
BEGIN:STANDARD
TZOFFSETFROM:-0500
TZOFFSETTO:-0600
TZNAME:CST
DTSTART:20271107T070000
END:STANDARD
END:VTIMEZONE
BEGIN:VEVENT
DTSTART;VALUE=DATE:20260301
DTEND;VALUE=DATE:20260302
DTSTAMP:20260422T125514
CREATED:20260122T232237Z
LAST-MODIFIED:20260122T233437Z
UID:13632-1772323200-1772409599@myepilepsystory.org
SUMMARY:International Women with Epilepsy Day (IWWED)
DESCRIPTION:This International Women with Epilepsy Day (IWWED)\, we honor Strength—and invest in Change. \nWomen with epilepsy lead\, create\, and make history every day\, yet many still face barriers to healthcare\, education\, employment\, and understanding. Today\, we come together to change that. \nApproximately 1 in 26 people will develop epilepsy.  Our goal is to inspire 100 people to commit to donating $26 a month for one year\, creating sustained support that drives real\, lasting impact for women with epilepsy. \nYour support helps fund: \n  \n\nAdvocacy and research for women’s health and equity\nScholarships for education for women living with epilepsy\nSponsorships that amplify women’s voices and leadership\n\n  \nWhen you give\, you’re not just donating—you’re standing with women who continue to rise\, thrive\, and lead beyond seizures. \n💜 Join us. Support her Strength. Fuel her Future.\n👉 Donate today and be part of the movement. \n#IWWED #MES #SheSeizesPower
URL:https://myepilepsystory.org/event/international-women-with-epilepsy-day-iwwed/
LOCATION:Worldwide
CATEGORIES:Upcoming Event
ORGANIZER;CN="My Epilepsy Story (MES)":MAILTO:info@InternationalWomenWithEpilepsyDay.org
END:VEVENT
END:VCALENDAR